View In:
ArcGIS JavaScript
ArcGIS Online Map Viewer
ArcGIS Earth
ArcMap
View Footprint In:
ArcGIS Online Map Viewer
Service Description: The elevation data used to created this dataset was provided by MapCon to the Saskatchewan Geospatial Imagery Collaborative (SGIC) group as a deliverable along with the high-resolution aerial photography product. The breaklines used are polyline shapefiles derived by softcopy stereo digitizing of features that represent breaks in the topography (for example, tops of ridges, bottoms of V-shaped valleys, tops and bottoms of cliffs, edges of waterbodies, etc.). These breaklines greatly add to the representative detail of the topography and have the potential to greatly increase the accuracy and precision of an elevation model. Please refer to the following document for more details on the methodology used to interpolate the DEM: "Proposed_SGIC_DEM_Creation_Methodology_20110211.doc"
Name: SGIC_2008_2012_WSA_DEM
Description: The elevation data used to created this dataset was provided by MapCon to the Saskatchewan Geospatial Imagery Collaborative (SGIC) group as a deliverable along with the high-resolution aerial photography product. The breaklines used are polyline shapefiles derived by softcopy stereo digitizing of features that represent breaks in the topography (for example, tops of ridges, bottoms of V-shaped valleys, tops and bottoms of cliffs, edges of waterbodies, etc.). These breaklines greatly add to the representative detail of the topography and have the potential to greatly increase the accuracy and precision of an elevation model. Please refer to the following document for more details on the methodology used to interpolate the DEM: "Proposed_SGIC_DEM_Creation_Methodology_20110211.doc"
Single Fused Map Cache: false
Extent:
XMin: 135967.4310999997
YMin: 5427364.445
XMax: 766057.4310999997
YMax: 6655099.445
Spatial Reference: 2151
(2957)
Initial Extent:
XMin: 135967.4310999997
YMin: 5427364.445
XMax: 766057.4310999997
YMax: 6655099.445
Spatial Reference: 2151
(2957)
Full Extent:
XMin: 135967.4310999997
YMin: 5427364.445
XMax: 766057.4310999997
YMax: 6655099.445
Spatial Reference: 2151
(2957)
Pixel Size X: 15.0
Pixel Size Y: 15.0
Band Count: 1
Pixel Type: F32
RasterFunction Infos: {"rasterFunctionInfos": [{
"name": "None",
"description": "",
"help": ""
}]}
Mensuration Capabilities: Basic
Has Histograms: true
Has Colormap: false
Has Multi Dimensions : false
Rendering Rule:
Min Scale: 0
Max Scale: 0
Copyright Text:
Service Data Type: esriImageServiceDataTypeGeneric
Min Values: 0
Max Values: 1319.2430419921875
Mean Values: 545.4907549119172
Standard Deviation Values: 149.24442304024066
Object ID Field:
Fields:
None
Default Mosaic Method: Center
Allowed Mosaic Methods:
SortField:
SortValue: null
Mosaic Operator: First
Default Compression Quality: 75
Default Resampling Method: Bilinear
Max Record Count: null
Max Image Height: 4100
Max Image Width: 15000
Max Download Image Count: null
Max Mosaic Image Count: null
Allow Raster Function: true
Allow Copy: null
Allow Analysis: null
Allow Compute TiePoints: false
Supports Statistics: false
Supports Advanced Queries: false
Use StandardizedQueries: true
Raster Type Infos:
Name: Raster Dataset
Description: Supports all ArcGIS Raster Datasets
Help:
Has Raster Attribute Table: false
Edit Fields Info: null
Ownership Based AccessControl For Rasters: null
Child Resources:
Info
Histograms
Key Properties
Legend
Raster Function Infos
Supported Operations:
Export Image
Identify
Measure
Compute Histograms
Compute Statistics Histograms
Get Samples
Compute Class Statistics
Query Boundary
Compute Pixel Location
Validate
Project