{ "currentVersion": 10.9, "serviceDescription": "
The elevation data used to created this dataset was provided by MapCon to the Saskatchewan Geospatial Imagery Collaborative (SGIC) group as a deliverable along with the high-resolution aerial photography product. The breaklines used are polyline shapefiles derived by softcopy stereo digitizing of features that represent breaks in the topography (for example, tops of ridges, bottoms of V-shaped valleys, tops and bottoms of cliffs, edges of waterbodies, etc.). These breaklines greatly add to the representative detail of the topography and have the potential to greatly increase the accuracy and precision of an elevation model. Please refer to the following document for more details on the methodology used to interpolate the DEM: \"Proposed_SGIC_DEM_Creation_Methodology_20110211.doc\"<\/span><\/span><\/p> <\/p><\/div><\/div><\/div>",
"name": "SGIC_2008_2012_WSA_DEM",
"description": " The elevation data used to created this dataset was provided by MapCon to the Saskatchewan Geospatial Imagery Collaborative (SGIC) group as a deliverable along with the high-resolution aerial photography product. The breaklines used are polyline shapefiles derived by softcopy stereo digitizing of features that represent breaks in the topography (for example, tops of ridges, bottoms of V-shaped valleys, tops and bottoms of cliffs, edges of waterbodies, etc.). These breaklines greatly add to the representative detail of the topography and have the potential to greatly increase the accuracy and precision of an elevation model. Please refer to the following document for more details on the methodology used to interpolate the DEM: \"Proposed_SGIC_DEM_Creation_Methodology_20110211.doc\"<\/span><\/span><\/p> <\/p><\/div><\/div><\/div>",
"extent": {
"xmin": 135967.4310999997,
"ymin": 5427364.445,
"xmax": 766057.4310999997,
"ymax": 6655099.445,
"spatialReference": {
"wkid": 2151,
"latestWkid": 2957
}
},
"initialExtent": {
"xmin": 135967.4310999997,
"ymin": 5427364.445,
"xmax": 766057.4310999997,
"ymax": 6655099.445,
"spatialReference": {
"wkid": 2151,
"latestWkid": 2957
}
},
"fullExtent": {
"xmin": 135967.4310999997,
"ymin": 5427364.445,
"xmax": 766057.4310999997,
"ymax": 6655099.445,
"spatialReference": {
"wkid": 2151,
"latestWkid": 2957
}
},
"pixelSizeX": 15,
"pixelSizeY": 15,
"bandCount": 1,
"pixelType": "F32",
"minPixelSize": 0,
"maxPixelSize": 0,
"copyrightText": "",
"serviceDataType": "esriImageServiceDataTypeGeneric",
"minValues": [
0
],
"maxValues": [
1319.2430419921875
],
"meanValues": [
545.4907549119172
],
"stdvValues": [
149.24442304024066
],
"objectIdField": "",
"fields": [],
"capabilities": "Mensuration,Image,Metadata",
"defaultMosaicMethod": "Center",
"allowedMosaicMethods": "",
"sortField": "",
"sortValue": null,
"sortAscending": true,
"mosaicOperator": "First",
"defaultCompressionQuality": 75,
"defaultResamplingMethod": "Bilinear",
"maxImageHeight": 4100,
"maxImageWidth": 15000,
"allowRasterFunction": true,
"rasterFunctionInfos": [
{
"name": "None",
"description": "",
"help": ""
}
],
"rasterTypeInfos": [
{
"name": "Raster Dataset",
"description": "Supports all ArcGIS Raster Datasets",
"help": ""
}
],
"mensurationCapabilities": "Basic",
"hasHistograms": true,
"hasColormap": false,
"hasRasterAttributeTable": false,
"minScale": 0,
"maxScale": 0,
"exportTilesAllowed": false,
"hasMultidimensions": false,
"supportsStatistics": false,
"supportsAdvancedQueries": false,
"editFieldsInfo": null,
"ownershipBasedAccessControlForRasters": null,
"allowComputeTiePoints": false,
"useStandardizedQueries": true,
"advancedQueryCapabilities": {
"useStandardizedQueries": true,
"supportsStatistics": false,
"supportsOrderBy": false,
"supportsDistinct": false,
"supportsPagination": false
},
"spatialReference": {
"wkid": 2151,
"latestWkid": 2957
}
}