View In:
ArcGIS JavaScript
ArcGIS Online Map Viewer
ArcGIS Earth
ArcMap
View Footprint In:
ArcGIS Online Map Viewer
Service Description: Hillshade image derived from the 1 arc second Shuttle Radar Topogrpahy Mission (SRTM) Digital Surface Model (DSM).
Name: Shuttle_Radar_Topography_Mission_Hillshade
Description: Hillshade image derived from the 1 arc second Shuttle Radar Topogrpahy Mission (SRTM) Digital Surface Model (DSM).
Single Fused Map Cache: false
Extent:
XMin: 133977.54000000004
YMin: 5427364.4399999995
XMax: 766077.54
YMax: 6661944.4399999995
Spatial Reference: 2151
(2957)
Initial Extent:
XMin: 133977.54000000004
YMin: 5427364.4399999995
XMax: 766077.54
YMax: 6661944.4399999995
Spatial Reference: 2151
(2957)
Full Extent:
XMin: 133977.54000000004
YMin: 5427364.4399999995
XMax: 766077.54
YMax: 6661944.4399999995
Spatial Reference: 2151
(2957)
Pixel Size X: 20.0
Pixel Size Y: 20.0
Band Count: 1
Pixel Type: U8
RasterFunction Infos: {"rasterFunctionInfos": [{
"name": "None",
"description": "",
"help": ""
}]}
Mensuration Capabilities: Basic
Has Histograms: true
Has Colormap: false
Has Multi Dimensions : false
Rendering Rule:
Min Scale: 0
Max Scale: 0
Copyright Text: NASA
Service Data Type: esriImageServiceDataTypeGeneric
Min Values: 0
Max Values: 254
Mean Values: 170.4342702723139
Standard Deviation Values: 41.980245858489624
Object ID Field:
Fields:
None
Default Mosaic Method: Center
Allowed Mosaic Methods:
SortField:
SortValue: null
Mosaic Operator: First
Default Compression Quality: 75
Default Resampling Method: Bilinear
Max Record Count: null
Max Image Height: 4100
Max Image Width: 15000
Max Download Image Count: null
Max Mosaic Image Count: null
Allow Raster Function: true
Allow Copy: null
Allow Analysis: null
Allow Compute TiePoints: false
Supports Statistics: false
Supports Advanced Queries: false
Use StandardizedQueries: true
Raster Type Infos:
Name: Raster Dataset
Description: Supports all ArcGIS Raster Datasets
Help:
Has Raster Attribute Table: true
Edit Fields Info: null
Ownership Based AccessControl For Rasters: null
Child Resources:
Info
Raster Attribute Table
Histograms
Key Properties
Legend
Raster Function Infos
Supported Operations:
Export Image
Identify
Measure
Compute Histograms
Compute Statistics Histograms
Get Samples
Compute Class Statistics
Query Boundary
Compute Pixel Location
Validate
Project