View In:
ArcGIS JavaScript
ArcGIS Online Map Viewer
ArcGIS Earth
ArcMap
View Footprint In:
ArcGIS Online Map Viewer
Service Description: DEM
Name: DEM
Description:
Single Fused Map Cache: false
Extent:
XMin: 365654.400001
YMin: 5646843.48988
XMax: 399999.400001
YMax: 5682563.48988
Spatial Reference: 26913
(26913)
Initial Extent:
XMin: 365654.400001
YMin: 5646843.48988
XMax: 399999.400001
YMax: 5682563.48988
Spatial Reference: 26913
(26913)
Full Extent:
XMin: 365654.400001
YMin: 5646843.48988
XMax: 399999.400001
YMax: 5682563.48988
Spatial Reference: 26913
(26913)
Pixel Size X: 5.0
Pixel Size Y: 5.0
Band Count: 1
Pixel Type: S16
RasterFunction Infos: {"rasterFunctionInfos": [{
"name": "None",
"description": "",
"help": ""
}]}
Mensuration Capabilities: Basic
Has Histograms: true
Has Colormap: false
Has Multi Dimensions : false
Rendering Rule:
Min Scale: 0
Max Scale: 0
Copyright Text:
Service Data Type: esriImageServiceDataTypeGeneric
Min Values: 513
Max Values: 627
Mean Values: 552.5196512504215
Standard Deviation Values: 2.7831590695073802
Object ID Field:
Fields:
None
Default Mosaic Method: Center
Allowed Mosaic Methods:
SortField:
SortValue: null
Mosaic Operator: First
Default Compression Quality: 75
Default Resampling Method: Bilinear
Max Record Count: null
Max Image Height: 4100
Max Image Width: 15000
Max Download Image Count: null
Max Mosaic Image Count: null
Allow Raster Function: true
Allow Copy: true
Allow Analysis: true
Allow Compute TiePoints: false
Supports Statistics: false
Supports Advanced Queries: false
Use StandardizedQueries: true
Raster Type Infos:
Name: Raster Dataset
Description: Supports all ArcGIS Raster Datasets
Help:
Has Raster Attribute Table: true
Edit Fields Info: null
Ownership Based AccessControl For Rasters: null
Child Resources:
Info
Raster Attribute Table
Histograms
Statistics
Key Properties
Legend
Raster Function Infos
Supported Operations:
Export Image
Identify
Measure
Compute Histograms
Compute Statistics Histograms
Get Samples
Compute Class Statistics
Query Boundary
Compute Pixel Location
Validate
Project