{
 "currentVersion": 10.9,
 "serviceDescription": "Shuttle Radar Topography Mission (SRTM) 1 arc second DSM for Saskatchewan.",
 "name": "Shuttle_Radar_Topography_Mission_DSM_20m",
 "description": "Shuttle Radar Topography Mission (SRTM) 1 arc second DSM for Saskatchewan.",
 "extent": {
  "xmin": 133977.54000000004,
  "ymin": 5427364.4399999995,
  "xmax": 766077.54,
  "ymax": 6661944.4399999995,
  "spatialReference": {
   "wkid": 2151,
   "latestWkid": 2957
  }
 },
 "initialExtent": {
  "xmin": 133977.54000000004,
  "ymin": 5427364.4399999995,
  "xmax": 766077.54,
  "ymax": 6661944.4399999995,
  "spatialReference": {
   "wkid": 2151,
   "latestWkid": 2957
  }
 },
 "fullExtent": {
  "xmin": 133977.54000000004,
  "ymin": 5427364.4399999995,
  "xmax": 766077.54,
  "ymax": 6661944.4399999995,
  "spatialReference": {
   "wkid": 2151,
   "latestWkid": 2957
  }
 },
 "pixelSizeX": 20,
 "pixelSizeY": 20,
 "bandCount": 1,
 "pixelType": "F32",
 "minPixelSize": 0,
 "maxPixelSize": 0,
 "copyrightText": "NASA",
 "serviceDataType": "esriImageServiceDataTypeGeneric",
 "minValues": [
  203.30348205566406
 ],
 "maxValues": [
  1387.2066650390625
 ],
 "meanValues": [
  525.1148989764538
 ],
 "stdvValues": [
  147.54203863500504
 ],
 "objectIdField": "",
 "fields": [],
 "capabilities": "Image,Metadata,Mensuration",
 "defaultMosaicMethod": "Center",
 "allowedMosaicMethods": "",
 "sortField": "",
 "sortValue": null,
 "sortAscending": true,
 "mosaicOperator": "First",
 "defaultCompressionQuality": 75,
 "defaultResamplingMethod": "Bilinear",
 "maxImageHeight": 4100,
 "maxImageWidth": 15000,
 "allowRasterFunction": true,
 "rasterFunctionInfos": [
  {
   "name": "None",
   "description": "",
   "help": ""
  }
 ],
 "rasterTypeInfos": [
  {
   "name": "Raster Dataset",
   "description": "Supports all ArcGIS Raster Datasets",
   "help": ""
  }
 ],
 "mensurationCapabilities": "Basic",
 "hasHistograms": true,
 "hasColormap": false,
 "hasRasterAttributeTable": false,
 "minScale": 0,
 "maxScale": 0,
 "exportTilesAllowed": false,
 "hasMultidimensions": false,
 "supportsStatistics": false,
 "supportsAdvancedQueries": false,
 "editFieldsInfo": null,
 "ownershipBasedAccessControlForRasters": null,
 "allowComputeTiePoints": false,
 "useStandardizedQueries": true,
 "advancedQueryCapabilities": {
  "useStandardizedQueries": true,
  "supportsStatistics": false,
  "supportsOrderBy": false,
  "supportsDistinct": false,
  "supportsPagination": false
 },
 "spatialReference": {
  "wkid": 2151,
  "latestWkid": 2957
 }
}
