{
 "currentVersion": 10.9,
 "serviceDescription": "Bare earth digital elevation model of certain beaches of Lake Diefenbaker that have the most Piping Plover activity. The dataset was created circa 2010 from several different sounces including hand-held GPS mounted on an ATV, as well as some survey grade GPS topography surveys fro certain areas.",
 "name": "Lake_Diefenbaker_Beach_DEM_2010",
 "description": "Bare earth digital elevation model of certain beaches of Lake Diefenbaker that have the most Piping Plover activity. The dataset was created circa 2010 from several different sounces including hand-held GPS mounted on an ATV, as well as some survey grade GPS topography surveys fro certain areas.",
 "extent": {
  "xmin": 365654.400001,
  "ymin": 5646843.48988,
  "xmax": 399999.400001,
  "ymax": 5682563.48988,
  "spatialReference": {
   "wkid": 26913,
   "latestWkid": 26913
  }
 },
 "initialExtent": {
  "xmin": 365654.400001,
  "ymin": 5646843.48988,
  "xmax": 399999.400001,
  "ymax": 5682563.48988,
  "spatialReference": {
   "wkid": 26913,
   "latestWkid": 26913
  }
 },
 "fullExtent": {
  "xmin": 365654.400001,
  "ymin": 5646843.48988,
  "xmax": 399999.400001,
  "ymax": 5682563.48988,
  "spatialReference": {
   "wkid": 26913,
   "latestWkid": 26913
  }
 },
 "pixelSizeX": 5,
 "pixelSizeY": 5,
 "bandCount": 1,
 "pixelType": "F32",
 "minPixelSize": 0,
 "maxPixelSize": 0,
 "copyrightText": "",
 "serviceDataType": "esriImageServiceDataTypeGeneric",
 "minValues": [
  513.6945190429688
 ],
 "maxValues": [
  627.9097290039062
 ],
 "meanValues": [
  553.0207962296281
 ],
 "stdvValues": [
  2.7614275250121287
 ],
 "objectIdField": "",
 "fields": [],
 "capabilities": "Image,Metadata,Mensuration",
 "defaultMosaicMethod": "Center",
 "allowedMosaicMethods": "",
 "sortField": "",
 "sortValue": null,
 "sortAscending": true,
 "mosaicOperator": "First",
 "defaultCompressionQuality": 75,
 "defaultResamplingMethod": "Bilinear",
 "maxImageHeight": 4100,
 "maxImageWidth": 15000,
 "allowRasterFunction": true,
 "rasterFunctionInfos": [
  {
   "name": "None",
   "description": "",
   "help": ""
  }
 ],
 "rasterTypeInfos": [
  {
   "name": "Raster Dataset",
   "description": "Supports all ArcGIS Raster Datasets",
   "help": ""
  }
 ],
 "mensurationCapabilities": "Basic",
 "hasHistograms": true,
 "hasColormap": false,
 "hasRasterAttributeTable": false,
 "minScale": 0,
 "maxScale": 0,
 "exportTilesAllowed": false,
 "hasMultidimensions": false,
 "supportsStatistics": false,
 "supportsAdvancedQueries": false,
 "editFieldsInfo": null,
 "ownershipBasedAccessControlForRasters": null,
 "allowComputeTiePoints": false,
 "useStandardizedQueries": true,
 "advancedQueryCapabilities": {
  "useStandardizedQueries": true,
  "supportsStatistics": false,
  "supportsOrderBy": false,
  "supportsDistinct": false,
  "supportsPagination": false
 },
 "spatialReference": {
  "wkid": 26913,
  "latestWkid": 26913
 }
}
